BEGIN:VCALENDAR
VERSION:2.0
PRODID:-//My Calendar//http://www.joedolson.com//v3.1.13//EN
METHOD:PUBLISH
CALSCALE:GREGORIAN
X-WR-CALNAME:Block by Block Organizing Network Oakland
X-PUBLISHED-TTL:PT24H
REFRESH-INTERVAL;VALUE=DURATION:PT24H
X-WR-CALDESC:Events from Block by Block Organizing Network Oakland
BEGIN:VEVENT
UID:40-35
LOCATION:Taylor Memorial Church 1188 12 St.  Oakland CA 94600
SUMMARY:Oakland Police Commission Public Hearing
DTSTAMP:20190216T113000
ORGANIZER;CN=Michael Tigges:MAILTO:mtigg@att.net
DTSTART;TZID=America/Los_Angeles:20190216T113000
DTEND;TZID=America/Los_Angeles:20190216T160000
URL;VALUE=URI:http://bbbon.net
DESCRIPTION: 
CATEGORIES:City event
END:VEVENT
BEGIN:VEVENT
UID:39-33
LOCATION:John's House 4229 Laguna Ave.,   Oakland CA
SUMMARY:BBBON Holiday Party
DTSTAMP:20171207T173000
ORGANIZER;CN=Michael Tigges:MAILTO:mtigg@att.net
DTSTART;TZID=America/Los_Angeles:20171207T173000
DTEND;TZID=America/Los_Angeles:20171207T210000
URL;VALUE=URI:http://bbbon.net
DESCRIPTION:Let’s take time to enjoy the company of friends and colleagues and renew our energy for the challenges ahead. 
CATEGORIES:BBBON public meetings
END:VEVENT
BEGIN:VEVENT
UID:36-32
LOCATION:City Hall 1 Frank Ogowa Plaza  Oaklend CA
SUMMARY:First Meeting of the Oakland Police Commission
DTSTAMP:20171213T190000
ORGANIZER;CN=Michael Tigges:MAILTO:mtigg@att.net
DTSTART;TZID=America/Los_Angeles:20171213T190000
DTEND;TZID=America/Los_Angeles:20171213T200000
URL;VALUE=URI:http://bbbon.net
DESCRIPTION: 
CATEGORIES:City event
END:VEVENT
BEGIN:VEVENT
UID:35-31
LOCATION:BBBON Office 2624 Fruitvale Ave  Oakland CA 94601
SUMMARY:BBBON SC
DTSTAMP:20170810T183000
ORGANIZER;CN=Michael Tigges:MAILTO:mtigg@att.net
DTSTART;TZID=America/Los_Angeles:20170810T183000
DTEND;TZID=America/Los_Angeles:20170810T193000
URL;VALUE=URI:http://bbbon.net
DESCRIPTION:This meeting will be brief in order to be at City Hall to support Jose 
CATEGORIES:BBBON public meetings
END:VEVENT
BEGIN:VEVENT
UID:32-30
LOCATION:City Hall 1 Frank Ogowa Plaza  Oaklend CA
SUMMARY:Oakland Police Commission Interviews
DTSTAMP:20170808T173000
ORGANIZER;CN=Michael Tigges:MAILTO:mtigg@att.net
DTSTART;TZID=America/Los_Angeles:20170808T173000
DTEND;TZID=America/Los_Angeles:20170808T210000
URL;VALUE=URI:http://bbbon.net
DESCRIPTION:The 28 finalists for spots on the Police Commission will be publicly interviewed.  Jose Dorado's interview is scheduled for 8:20 pm on Wednesday 
CATEGORIES:BBBON public meetings
END:VEVENT
BEGIN:VEVENT
UID:33-30
LOCATION:City Hall 1 Frank Ogowa Plaza  Oaklend CA
SUMMARY:Oakland Police Commission Interviews
DTSTAMP:20170810T173000
ORGANIZER;CN=Michael Tigges:MAILTO:mtigg@att.net
DTSTART;TZID=America/Los_Angeles:20170810T173000
DTEND;TZID=America/Los_Angeles:20170810T210000
URL;VALUE=URI:http://bbbon.net
DESCRIPTION:The 28 finalists for spots on the Police Commission will be publicly interviewed.  Jose Dorado's interview is scheduled for 8:20 pm on Wednesday 
CATEGORIES:BBBON public meetings
END:VEVENT
BEGIN:VEVENT
UID:34-30
LOCATION:City Hall 1 Frank Ogowa Plaza  Oaklend CA
SUMMARY:Oakland Police Commission Interviews
DTSTAMP:20170812T173000
ORGANIZER;CN=Michael Tigges:MAILTO:mtigg@att.net
DTSTART;TZID=America/Los_Angeles:20170812T173000
DTEND;TZID=America/Los_Angeles:20170812T210000
URL;VALUE=URI:http://bbbon.net
DESCRIPTION:The 28 finalists for spots on the Police Commission will be publicly interviewed.  Jose Dorado's interview is scheduled for 8:20 pm on Wednesday 
CATEGORIES:BBBON public meetings
END:VEVENT
BEGIN:VEVENT
UID:31-29
LOCATION:Lakeshore Avenue Baptist Church 3534 Lakeshore Ave.  Oakland CA 94610
SUMMARY:An Evening with Norm Stamper
DTSTAMP:20170726T190000
ORGANIZER;CN=Michael Tigges:MAILTO:mtigg@att.net
DTSTART;TZID=America/Los_Angeles:20170726T190000
DTEND;TZID=America/Los_Angeles:20170726T210000
URL;VALUE=URI:http://bbbon.net
DESCRIPTION: 
CATEGORIES:Community event
END:VEVENT
BEGIN:VEVENT
UID:30-28
LOCATION:City Hall 1 Frank Ogowa Plaza  Oaklend CA
SUMMARY:City Council
DTSTAMP:20170627T183000
ORGANIZER;CN=Michael Tigges:MAILTO:mtigg@att.net
DTSTART;TZID=America/Los_Angeles:20170627T183000
DTEND;TZID=America/Los_Angeles:20170627T234500
URL;VALUE=URI:http://bbbon.net
DESCRIPTION:Expected vote on the enabling ordinance of Measure LL 
CATEGORIES:City event
END:VEVENT
BEGIN:VEVENT
UID:29-27
LOCATION:ILWU Local 6 99 Hegenberger Rd at Pardee Oakland CA
SUMMARY:BBBON GA
DTSTAMP:20170511T173000
ORGANIZER;CN=Michael Tigges:MAILTO:mtigg@att.net
DTSTART;TZID=America/Los_Angeles:20170511T173000
DTEND;TZID=America/Los_Angeles:20170511T210000
URL;VALUE=URI:http://bbbon.net
DESCRIPTION:BBBON has taken an active role in the campaign to make California a Sanctuary State, starting with encouraging the City Council to declare Oakland a Sanctuary City, and the School Board to declare a Sanctuary District, as well as lobbying for the passage of SB54, the state Sanctuary bill.But declarations are only the first step.  We have invited representatives of three organizations involved in protecting and defending immigrants:  The Interfaith Movement for Human Integrity, Mujeries Udidas y Activas, and Kehilla Synagogue. They have been involved in "Accompaniment" for many years.  Now that the situation is even more threatening, they are reaching out broadly to involve more of us.  Please join us May 11, for a discussion of the meaning of Sanctuary and interconnections between the political and the service aspects of the campaign. 
CATEGORIES:BBBON public meetings
END:VEVENT
BEGIN:VEVENT
UID:28-26
LOCATION:BBBON Office 2624 Fruitvale Ave  Oakland CA 94601
SUMMARY:BBBON SC
DTSTAMP:20170309T183000
ORGANIZER;CN=Michael Tigges:MAILTO:mtigg@att.net
DTSTART;TZID=America/Los_Angeles:20170309T183000
DTEND;TZID=America/Los_Angeles:20170309T211500
URL;VALUE=URI:http://bbbon.net
DESCRIPTION: 	Report on implementation of LL, requests from CPA 	Report on AC Transit / OUSD dispute over buses for students 	Report on City Council meeting (Tuesday) 	Report on plans for April 29th demonstration / consider endorsement 	Report on California Sanctuary Campaign, further BBBON involvement 	Report on campaign for reform of Prop 13 	Speaker for May GA 	Should we continue to move GA meetings around? 	Financial report 
CATEGORIES:BBBON public meetings
END:VEVENT
BEGIN:VEVENT
UID:27-25
LOCATION:Oakland Federal Building 1301 Clay St.  Oakland CA
SUMMARY:March to Resist Trump Policies
DTSTAMP:20170119T163000
ORGANIZER;CN=Michael Tigges:MAILTO:mtigg@att.net
DTSTART;TZID=America/Los_Angeles:20170119T163000
DTEND;TZID=America/Los_Angeles:20170119T180000
URL;VALUE=URI:http://bbbon.net
DESCRIPTION:Sponsored by OCO 
CATEGORIES:Community event
END:VEVENT
BEGIN:VEVENT
UID:26-24
LOCATION:Centro Legal de la Raza 3400 E. 12th St.  Oakland CA 94601
SUMMARY:Coalition for California as a Sanctuary State
DTSTAMP:20161212T183000
ORGANIZER;CN=Michael Tigges:MAILTO:mtigg@att.net
DTSTART;TZID=America/Los_Angeles:20161212T183000
DTEND;TZID=America/Los_Angeles:20161212T210000
URL;VALUE=URI:http://bbbon.net
DESCRIPTION: 
CATEGORIES:Community event
END:VEVENT
BEGIN:VEVENT
UID:25-23
LOCATION:BBBON Office 2624 Fruitvale Ave  Oakland CA 94601
SUMMARY:BBBON SC
DTSTAMP:20161208T183000
ORGANIZER;CN=Michael Tigges:MAILTO:mtigg@att.net
DTSTART;TZID=America/Los_Angeles:20161208T183000
DTEND;TZID=America/Los_Angeles:20161208T210000
URL;VALUE=URI:http://bbbon.net
DESCRIPTION:Voting on Steering Committee business is restricted to members.  Anyone is welcome to sit in. 
CATEGORIES:Committee meetings
END:VEVENT
BEGIN:VEVENT
UID:24-22
LOCATION:Dimond Park, Oakland 3668 Dimond Ave  Oakland CA
SUMMARY:BBBON Annual Picnic
DTSTAMP:20160625T110000
ORGANIZER;CN=Sheryl Walton:MAILTO:sheryl.walton@sbcglobal.net
DTSTART;TZID=America/Los_Angeles:20160625T110000
DTEND;TZID=America/Los_Angeles:20160625T150000
URL;VALUE=URI:http://bbbon.net
DESCRIPTION: 
CATEGORIES:Community event
END:VEVENT
BEGIN:VEVENT
UID:22-21
LOCATION:BBBON Office 2624 Fruitvale Ave  Oakland CA 94601
SUMMARY:BBBON SC
DTSTAMP:20160317T183000
ORGANIZER;CN=Michael Tigges:MAILTO:mtigg@att.net
DTSTART;TZID=America/Los_Angeles:20160317T183000
DTEND;TZID=America/Los_Angeles:20160317T210000
URL;VALUE=URI:http://bbbon.net
DESCRIPTION: 
CATEGORIES:BBBON public meetings
END:VEVENT
BEGIN:VEVENT
UID:21-20
LOCATION:Lions Creek Crossing 6865 Leona Creek Dr  Oakland CA
SUMMARY:BBBON GA
DTSTAMP:20160310T173000
ORGANIZER;CN=Michael Tigges:MAILTO:mtigg@att.net
DTSTART;TZID=America/Los_Angeles:20160310T173000
DTEND;TZID=America/Los_Angeles:20160310T210000
URL;VALUE=URI:http://bbbon.net
DESCRIPTION:#BlackLivesMatter Too much police harassment of citizens and too many police-involved shootings! Come and voice your opinion: Should Oakland have a Police Commission to oversee the police department?Thursday, March 10Lions Creek Crossing Community Room6865 Leona Creek Crossing Drive, Suite 102&nbsp;5:30 Potluck Supper (please bring a dish to share)6:30 MeetingRepresentatives of the Coalition on Police Accountability will present their proposal for establishing a Police Commission.  Your input is needed.THANK YOU!!Directions from Fruitvale on San Leandro Blvd.: Turn left on 69th to go under BART tracksNext left at Lion WayLeft at Leona Creek Dr.Directions from Hegenberger toward the airport:Exit at Hawley St. following BART signsTurn right to skirt BART parking lot and continue on HawleyLeft at Lion Way (T intersection)Follow Lion Way around to the right where it intersects with Leona CreekStreet parking available. 
CATEGORIES:BBBON public meetings
END:VEVENT
BEGIN:VEVENT
UID:20-19
LOCATION:BBBON Office 2624 Fruitvale Ave  Oakland CA 94601
SUMMARY:BBBON SC
DTSTAMP:20160218T183000
ORGANIZER;CN=Michael Tigges:MAILTO:mtigg@att.net
DTSTART;TZID=America/Los_Angeles:20160218T183000
DTEND;TZID=America/Los_Angeles:20160218T210000
URL;VALUE=URI:http://bbbon.net
DESCRIPTION:Agenda:	Summation of last  week's GA and planning for next GA	Reports from Public Safety, Housing, Education, Political Action Committees	Housing as a case study in evaluation - a model for BBBON 
CATEGORIES:BBBON public meetings
END:VEVENT
BEGIN:VEVENT
UID:19-18
LOCATION:Humanist Hall 390 27th St  Oakland CA  94612
SUMMARY:Wellstone Club Meeting
DTSTAMP:20160225T180000
ORGANIZER;CN=Michael Tigges:MAILTO:mtigg@att.net
DTSTART;TZID=America/Los_Angeles:20160225T180000
DTEND;TZID=America/Los_Angeles:20160225T210000
URL;VALUE=URI:http://bbbon.net
DESCRIPTION:Wellstone Club MeetingThursday, February 25Humanist Hall, 390 27th St., Oaklandbetween Telegraph and Broadway&nbsp;Endorsement Meetingfor the9th State Senate Districtto succeed Loni Hancock&nbsp;The Candidates are:Former Assemblymember Nancy SkinnerFormer Assemblymember Sandre SwansonEducation Activist Katherine Welch&nbsp;The Candidates will make statements and answer questions.All are invited.Only Wellstone Club members in good standing may vote.  A separate email will be sent to Wellstone Club members in good standing with additional information.The Club will also vote on the Coordinating Committee andmembership-nominated candidates for the Alameda County Central Committee forthe 15th and 18th Assembly Districts . 
CATEGORIES:Wellstone Democratic Renewal Club 
END:VEVENT
BEGIN:VEVENT
UID:18-17
LOCATION:Community Room 1200 Lakeshore Ave  Oakland CA 94606
SUMMARY:February GA
DTSTAMP:20160211T173000
ORGANIZER;CN=Sharon Rose:MAILTO:sharonroseesl@gmail.com
DTSTART;TZID=America/Los_Angeles:20160211T173000
DTEND;TZID=America/Los_Angeles:20160211T210000
URL;VALUE=URI:http://bbbon.net
DESCRIPTION:Agenda:Update on the fight for affordable housing in OaklandUpdate from Coalition for Police Accountability (working for a Police Commission)Update on Political Action: search for progressive candidates for local officesMain speaker: Reverend Damita, Ceasefire Community Chair, will update us on the Friday night community walks&nbsp; 
CATEGORIES:BBBON public meetings
END:VEVENT
BEGIN:VEVENT
UID:17-16
LOCATION:Humanist Hall 390 27th St  Oakland CA  94612
SUMMARY:Wellstone DRC Endorsement Meeting
DTSTAMP:20160128T180000
ORGANIZER;CN=Michael Tigges:MAILTO:mtigg@att.net
DTSTART;TZID=America/Los_Angeles:20160128T180000
DTEND;TZID=America/Los_Angeles:20160128T210000
URL;VALUE=URI:http://bbbon.net
DESCRIPTION:Our club is having an important endorsement meeting on Thursday, January 28 where we will be considering endorsing a successor to Loni Hancock, who is termed out from her State Senate Seat.  The candidates whom we will be considering are former Assembly Members Nancy Skinner and Sandre Swanson as well as education activist Katherine Welch.We also will be hearing from Assembly Members Rob Bonta and Tony Thurmond.Finally, the Coordinating Committee is proposing that the Club run candidates for a few seats on the Alameda County Democratic Central Committee.&nbsp;Please plan on showing up to vote.  You may have another club member carry your proxy by providing them with a written or emailed authorization. 
CATEGORIES:Committee meetings
END:VEVENT
BEGIN:VEVENT
UID:16-15
LOCATION:BBBON Office 2624 Fruitvale Ave  Oakland CA 94601
SUMMARY:Steering Committee Meeting
DTSTAMP:20160121T183000
ORGANIZER;CN=Sharon Rose:MAILTO:sharonroseesl@gmail.com
DTSTART;TZID=America/Los_Angeles:20160121T183000
DTEND;TZID=America/Los_Angeles:20160121T210000
URL;VALUE=URI:http://bbbon.net
DESCRIPTION: 
CATEGORIES:BBBON public meetings
END:VEVENT
BEGIN:VEVENT
UID:15-14
LOCATION:ILWU Local 6 99 Hegenberger Rd at Pardee Oakland CA
SUMMARY:January GA
DTSTAMP:20160114T173000
ORGANIZER;CN=Sharon Rose:MAILTO:sharonroseesl@gmail.com
DTSTART;TZID=America/Los_Angeles:20160114T173000
DTEND;TZID=America/Los_Angeles:20160114T203000
URL;VALUE=URI:http://bbbon.net
DESCRIPTION:Please join us to hear from each of our committees about the work we are doing in the districts and Citywide on public safety, housing, education, jobs, and other issues, as well as current thinking about involvement in key progressive campaigns for local offices. There will be time for Q &amp; A and discussion.We will also elect our Treasurer and Secretary and two at-large members of the Steering Committee.  (Other Steering Committee members are elected by their committees.)&nbsp;Social hour 5:30 (Potluck – please bring finger foods to share)Meeting 6:30 – 8:30 
CATEGORIES:BBBON public meetings
END:VEVENT
BEGIN:VEVENT
UID:14-13
LOCATION:BBBON Office 2624 Fruitvale Ave  Oakland CA 94601
SUMMARY:BBBON Steering Committee
DTSTAMP:19700101T183000
ORGANIZER;CN=Michael Tigges:MAILTO:mtigg@att.net
DTSTART;TZID=America/Los_Angeles:19700101T183000
DTEND;TZID=America/Los_Angeles:19700101T210000
URL;VALUE=URI:http://bbbon.net
DESCRIPTION: 
CATEGORIES:BBBON public meetings
END:VEVENT
BEGIN:VEVENT
UID:13-12
LOCATION:
SUMMARY:BBBON November GA
DTSTAMP:20151210T173000
ORGANIZER;CN=Sharon Rose:MAILTO:sharonroseesl@gmail.com
DTSTART;TZID=America/Los_Angeles:20151210T173000
DTEND;TZID=America/Los_Angeles:20151210T210000
URL;VALUE=URI:http://bbbon.net
DESCRIPTION:Discussion of an Oakland Police Commission Ballot Measure 
CATEGORIES:BBBON public meetings
END:VEVENT
BEGIN:VEVENT
UID:12-11
LOCATION:West Oakland Youth Center 3233 Market St  Oakland CA
SUMMARY:Speak Up to Stay Put - A City-Wide Anti-Displacement Forum
DTSTAMP:20151017T090000
ORGANIZER;CN=Michael Tigges:MAILTO:mtigg@att.net
DTSTART;TZID=America/Los_Angeles:20151017T090000
DTEND;TZID=America/Los_Angeles:20151017T150000
URL;VALUE=URI:http://bbbon.net
DESCRIPTION: 
CATEGORIES:Community event
END:VEVENT
BEGIN:VEVENT
UID:11-10
LOCATION:City Hall 1 Frank Ogowa Plaza  Oaklend CA
SUMMARY:Special Hearing on Housing
DTSTAMP:20150930T170000
ORGANIZER;CN=Michael Tigges:MAILTO:mtigg@att.net
DTSTART;TZID=America/Los_Angeles:20150930T170000
DTEND;TZID=America/Los_Angeles:20150930T210000
URL;VALUE=URI:http://www2.oaklandnet.com/Government/o/CityCouncil/s/councilmeetings/index.htm
DESCRIPTION:Council chambers http://www2.oaklandnet.com/Government/o/CityCouncil/s/councilmeetings/index.htm
CATEGORIES:City event
END:VEVENT
BEGIN:VEVENT
UID:10-9
LOCATION:BBBON Office 2624 Fruitvale Ave  Oakland CA 94601
SUMMARY:BBBON Steering Committee
DTSTAMP:20151015T183000
ORGANIZER;CN=Michael Tigges:MAILTO:mtigg@att.net
DTSTART;TZID=America/Los_Angeles:20151015T183000
DTEND;TZID=America/Los_Angeles:20151015T203000
URL;VALUE=URI:http://bbbon.net
DESCRIPTION: 
CATEGORIES:BBBON public meetings
END:VEVENT
BEGIN:VEVENT
UID:9-8
LOCATION:
SUMMARY:D3 Committee Meeting
DTSTAMP:20151012T183000
ORGANIZER;CN=Michael Tigges:MAILTO:mtigg@att.net
DTSTART;TZID=America/Los_Angeles:20151012T183000
DTEND;TZID=America/Los_Angeles:20151012T203000
URL;VALUE=URI:http://bbbon.net
DESCRIPTION:Contact:  Barbara Montgomery montgomery953@att.net 
CATEGORIES:Committee meetings
END:VEVENT
BEGIN:VEVENT
UID:7-7
LOCATION:Lions Creek Crossing 6865 Leona Creek Dr  Oakland CA
SUMMARY:BBBON October GA
DTSTAMP:20151008T173000
ORGANIZER;CN=Michael Tigges:MAILTO:mtigg@att.net
DTSTART;TZID=America/Los_Angeles:20151008T173000
DTEND;TZID=America/Los_Angeles:20151008T203000
URL;VALUE=URI:http://bbbon.net/2015/10/%20october-ga-at-lions-creek-crossing-continues-the-housing-discussion%20/
DESCRIPTION:Mobilizing for Affordable Housing http://bbbon.net/2015/10/%20october-ga-at-lions-creek-crossing-continues-the-housing-discussion%20/
CATEGORIES:BBBON public meetings
END:VEVENT
END:VCALENDAR